BEGIN:VCALENDAR
VERSION:2.0
PRODID:-//ChamberMaster//Event Calendar 2.0//EN
METHOD:PUBLISH
X-PUBLISHED-TTL:P1H
REFRESH-INTERVAL:P1H
CALSCALE:GREGORIAN
BEGIN:VTIMEZONE
TZID:America/New_York
BEGIN:DAYLIGHT
RRULE:FREQ=YEARLY;BYMONTH=3;BYDAY=2SU
DTSTART:20070101T000000
TZOFFSETFROM:-0500
TZOFFSETTO:-0400
TZNAME:Eastern Daylight Time
END:DAYLIGHT
BEGIN:STANDARD
RRULE:FREQ=YEARLY;BYMONTH=11;BYDAY=1SU
DTSTART:20070101T000000
TZOFFSETFROM:-0400
TZOFFSETTO:-0500
TZNAME:Eastern Standard Time
END:STANDARD
END:VTIMEZONE
BEGIN:VEVENT
DTSTART;TZID=America/New_York:20260425T100000
DTEND;TZID=America/New_York:20260425T130000
X-MICROSOFT-CDO-ALLDAYEVENT:FALSE
SUMMARY:Spring Cleaning Event
DESCRIPTION:It’s that time of year—time to refresh\, declutter\, and reconnect. Join us for a fun\, free\, family-friendly Spring Cleaning Event right here in Catonsville!\n📅 Saturday\, April 25th\n⏰ 10:00 AM – 1:00 PM\n📍 Catonsville Baptist Church\n✨ Community Yard Sale\n📄 Paper Shred Truck\n🎁 Donation Collection for Local Charities\n🍦 Free Ice Cream Truck (“The Cow”)
X-ALT-DESC;FMTTYPE=text/html:It’s that time of year—time to refresh\, declutter\, and reconnect. Join us for a fun\, free\, family-friendly Spring Cleaning Event right here in Catonsville!\n📅 Saturday\, April 25th\n⏰ 10:00 AM – 1:00 PM\n📍 Catonsville Baptist Church\n✨ Community Yard Sale\n📄 Paper Shred Truck\n🎁 Donation Collection for Local Charities\n🍦 Free Ice Cream Truck (“The Cow”)
LOCATION:1004 Frederick Road Catonsville MD 21228
UID:e.1957.1447620
SEQUENCE:3
DTSTAMP:20260423T124928Z
URL:https://members.catonsville.org/communityevents/Details/spring-cleaning-event-1714560?sourceTypeId=Hub
END:VEVENT
END:VCALENDAR
