BEGIN:VCALENDAR
VERSION:2.0
PRODID:-//ChamberMaster//Event Calendar 2.0//EN
METHOD:PUBLISH
X-PUBLISHED-TTL:P1H
REFRESH-INTERVAL:P1H
CALSCALE:GREGORIAN
BEGIN:VTIMEZONE
TZID:America/New_York
BEGIN:DAYLIGHT
RRULE:FREQ=YEARLY;BYMONTH=3;BYDAY=2SU
DTSTART:20070101T000000
TZOFFSETFROM:-0500
TZOFFSETTO:-0400
TZNAME:Eastern Daylight Time
END:DAYLIGHT
BEGIN:STANDARD
RRULE:FREQ=YEARLY;BYMONTH=11;BYDAY=1SU
DTSTART:20070101T000000
TZOFFSETFROM:-0400
TZOFFSETTO:-0500
TZNAME:Eastern Standard Time
END:STANDARD
END:VTIMEZONE
BEGIN:VEVENT
DTSTART;TZID=America/New_York:20260429T170000
DTEND;TZID=America/New_York:20260429T183000
X-MICROSOFT-CDO-ALLDAYEVENT:FALSE
SUMMARY:Off the Clock (Free Educational Series) - featuring CCBC\, Catonsville & Maryland Department of Labor
DESCRIPTION:Join us for our next Off the Clock (Free Educational Series) a great opportunity to learn\, connect\, and grow your business!In recognition of National Apprenticeship Week (April 26   May 2\, 2026)\, we're hosting an informative session focused on how registered apprenticeship programs in Maryland can benefit your business.Hear from experts at CCBC and the Maryland Department of Labor about available programs and incentives to help you build and strengthen your workforce.📅 April 29🕔 5:00 PM   6:30 PM📍 Atwater's (Upstairs)\, 815 Frederick Road\, CatonsvilleFeaturing:  Elizabeth Wojtisek\, Project Director\, Apprenticeship Center\, CCBC  Angela Harkness\, Apprenticeship Navigator\, Maryland Department of LaborWhether you're a business owner\, manager\, or simply curious about apprenticeship opportunities\, this session is for you.Free to attend don't miss it and everyone is welcome to attend this event.
X-ALT-DESC;FMTTYPE=text/html:<!DOCTYPE html><html><head><title></title></head><body aria-disabled="false"><p>Join us for our next Off the Clock (Free Educational Series)&mdash\;a great opportunity to learn\, connect\, and grow your business!</p><p>In recognition of National Apprenticeship Week (April 26 &ndash\; May 2\, 2026)\, we&rsquo\;re hosting an informative session focused on how registered apprenticeship programs in Maryland can benefit your business.</p><p>Hear from experts at CCBC and the Maryland Department of Labor about available programs and incentives to help you build and strengthen your workforce.</p><p>📅 April 29</p><p>🕔 5:00 PM &ndash\; 6:30 PM</p><p>📍 Atwater&rsquo\;s (Upstairs)\, 815 Frederick Road\, Catonsville</p><p>Featuring:</p><p>&bull\; Elizabeth Wojtisek\, Project Director\, Apprenticeship Center\, CCBC</p><p>&bull\; Angela Harkness\, Apprenticeship Navigator\, Maryland Department of Labor</p><p>Whether you&rsquo\;re a business owner\, manager\, or simply curious about apprenticeship opportunities\, this session is for you.</p><p>Free to attend&mdash\;don&rsquo\;t miss it and everyone is welcome to attend this event.</p></body></html>
LOCATION:815 Frederick Road Catonsville MD 21228
UID:e.1957.1446775
SEQUENCE:3
DTSTAMP:20260420T124900Z
URL:https://members.catonsville.org/communityevents/Details/off-the-clock-free-educational-series-featuring-ccbc-catonsville-maryland-department-of-labor-1713585?sourceTypeId=Hub
END:VEVENT
END:VCALENDAR
